BEGIN:VCALENDAR
VERSION:2.0
PRODID:-//destination.one//NONSGML destination.meta API//DE
X-WR-CALDESC:A calendar powered by destination.meta
X-WR-CALNAME:oestliches-weserbergland Kalender via destination.meta
BEGIN:VEVENT
CATEGORIES:Vereinsaktivität
DESCRIPTION:\n\nmehr Informationen unter http://pages.destination.one/de/oe
 stliches-weserbergland/streaming/detail/Event/e_101256536/skat-und-knobela
 bend
DTEND;TZID=Europe/Berlin:20260417T235900
DTSTAMP:20260423T085515Z
DTSTART;TZID=Europe/Berlin:20260417T180000
GEO:52.110290;9.616050
LOCATION:Dorfgemeinschaftshaus Osterwald\, Drei-Linden-Straße 2\, Salzhemme
 ndorf
ORGANIZER;CN=Männergesangverein Osterwald:mailto:guentherhelmer@web.de
SEQUENCE:0
SUMMARY:Skat- und Knobelabend     
UID:e_101256536_iv0
URL:http://pages.destination.one/de/oestliches-weserbergland/streaming/deta
 il/Event/e_101256536/skat-und-knobelabend
END:VEVENT
BEGIN:VTIMEZONE
TZID:Europe/Berlin
X-LIC-LOCATION:Europe/Berlin
BEGIN:DAYLIGHT
DTSTART:19700329T020000
RRULE:FREQ=YEARLY;BYDAY=-1SU;BYMONTH=3
TZNAME:CEST
TZOFFSETFROM:+0100
TZOFFSETTO:+0200
END:DAYLIGHT
BEGIN:STANDARD
DTSTART:19701025T030000
RRULE:FREQ=YEARLY;BYDAY=-1SU;BYMONTH=10
TZNAME:CET
TZOFFSETFROM:+0200
TZOFFSETTO:+0100
END:STANDARD
END:VTIMEZONE
END:VCALENDAR
