BEGIN:VCALENDAR
VERSION:2.0
PRODID:-//destination.one//NONSGML destination.meta API//DE
X-WR-CALDESC:A calendar powered by destination.meta
X-WR-CALNAME:oestliches-weserbergland Kalender via destination.meta
BEGIN:VEVENT
CATEGORIES:Bürgerangebote sonstige
DESCRIPTION:\n\nmehr Informationen unter http://pages.destination.one/de/oe
 stliches-weserbergland/streaming/detail/Event/e_101256491/m-llsammelaktion
 -in-osterwald-treffpunkt-dgh-osterwald
DTEND;TZID=Europe/Berlin:20260417T235900
DTSTAMP:20260420T143322Z
DTSTART;TZID=Europe/Berlin:20260417T150000
GEO:52.108825;9.625740
LOCATION:Ort Osterwald\, \, Salzhemmendorf
SEQUENCE:0
SUMMARY:Müllsammelaktion in Osterwald (Treffpunkt DGH Osterwald)
UID:e_101256491_iv0
URL:http://pages.destination.one/de/oestliches-weserbergland/streaming/deta
 il/Event/e_101256491/m-llsammelaktion-in-osterwald-treffpunkt-dgh-osterwal
 d
END:VEVENT
BEGIN:VTIMEZONE
TZID:Europe/Berlin
X-LIC-LOCATION:Europe/Berlin
BEGIN:DAYLIGHT
DTSTART:19700329T020000
RRULE:FREQ=YEARLY;BYDAY=-1SU;BYMONTH=3
TZNAME:CEST
TZOFFSETFROM:+0100
TZOFFSETTO:+0200
END:DAYLIGHT
BEGIN:STANDARD
DTSTART:19701025T030000
RRULE:FREQ=YEARLY;BYDAY=-1SU;BYMONTH=10
TZNAME:CET
TZOFFSETFROM:+0200
TZOFFSETTO:+0100
END:STANDARD
END:VTIMEZONE
END:VCALENDAR
