BEGIN:VCALENDAR
VERSION:2.0
PRODID:-//destination.one//NONSGML destination.meta API//DE
X-WR-CALDESC:A calendar powered by destination.meta
X-WR-CALNAME:oestliches-weserbergland Kalender via destination.meta
BEGIN:VEVENT
CATEGORIES:Tradition\, Brauchtum\, Volksfest sonstige
DESCRIPTION:\n\nmehr Informationen unter http://pages.destination.one/de/oe
 stliches-weserbergland/streaming/detail/Event/e_100837747/himmelfahrtsgril
 len-osterwald
DTEND;TZID=Europe/Berlin:20240509T235900
DTSTAMP:20260424T130309Z
DTSTART;TZID=Europe/Berlin:20240509T110000
GEO:52.109603;9.616628
LOCATION:Feuerwehrhaus Osterwald\, Hohe-Warte-Straße 43\, Salzhemmendorf
SEQUENCE:0
SUMMARY:Himmelfahrtsgrillen Osterwald
UID:e_100837747_iv0
URL:http://pages.destination.one/de/oestliches-weserbergland/streaming/deta
 il/Event/e_100837747/himmelfahrtsgrillen-osterwald
END:VEVENT
BEGIN:VEVENT
CATEGORIES:Tradition\, Brauchtum\, Volksfest sonstige
DESCRIPTION:\n\nmehr Informationen unter http://pages.destination.one/de/oe
 stliches-weserbergland/streaming/detail/Event/e_100837747/himmelfahrtsgril
 len-osterwald
DTEND;TZID=Europe/Berlin:20260514T150000
DTSTAMP:20260424T130309Z
DTSTART;TZID=Europe/Berlin:20260514T110000
GEO:52.109603;9.616628
LOCATION:Feuerwehrhaus Osterwald\, Hohe-Warte-Straße 43\, Salzhemmendorf
SEQUENCE:0
SUMMARY:Himmelfahrtsgrillen Osterwald
UID:e_100837747_iv1
URL:http://pages.destination.one/de/oestliches-weserbergland/streaming/deta
 il/Event/e_100837747/himmelfahrtsgrillen-osterwald
END:VEVENT
BEGIN:VTIMEZONE
TZID:Europe/Berlin
X-LIC-LOCATION:Europe/Berlin
BEGIN:DAYLIGHT
DTSTART:19700329T020000
RRULE:FREQ=YEARLY;BYDAY=-1SU;BYMONTH=3
TZNAME:CEST
TZOFFSETFROM:+0100
TZOFFSETTO:+0200
END:DAYLIGHT
BEGIN:STANDARD
DTSTART:19701025T030000
RRULE:FREQ=YEARLY;BYDAY=-1SU;BYMONTH=10
TZNAME:CET
TZOFFSETFROM:+0200
TZOFFSETTO:+0100
END:STANDARD
END:VTIMEZONE
END:VCALENDAR
