BEGIN:VCALENDAR
VERSION:2.0
PRODID:-//destination.one//NONSGML destination.meta API//DE
X-WR-CALDESC:A calendar powered by destination.meta
X-WR-CALNAME:oestliches-weserbergland Kalender via destination.meta
BEGIN:VEVENT
CATEGORIES:Versammlung
DESCRIPTION:\n\nmehr Informationen unter http://pages.destination.one/de/oe
 stliches-weserbergland/streaming/detail/Event/e_100443296/mitgliederversam
 mlung-bergmannsverein
DTEND;TZID=Europe/Berlin:20220521T235900
DTSTAMP:20260421T085949Z
DTSTART;TZID=Europe/Berlin:20220521T150000
GEO:52.112568;9.624088
LOCATION:Hüttenstollen Osterwald\, Steigerbrink 25\, Salzhemmendorf
ORGANIZER;CN=Verein zur Förderung des Bergmannswesens Osterwald e.V.:mailto
 :kontakt@der-huettenstollen.de
SEQUENCE:0
SUMMARY:Mitgliederversammlung Bergmannsverein 
UID:e_100443296_iv0
URL:http://pages.destination.one/de/oestliches-weserbergland/streaming/deta
 il/Event/e_100443296/mitgliederversammlung-bergmannsverein
END:VEVENT
BEGIN:VEVENT
CATEGORIES:Versammlung
DESCRIPTION:\n\nmehr Informationen unter http://pages.destination.one/de/oe
 stliches-weserbergland/streaming/detail/Event/e_100443296/mitgliederversam
 mlung-bergmannsverein
DTEND;TZID=Europe/Berlin:20230513T235900
DTSTAMP:20260421T085949Z
DTSTART;TZID=Europe/Berlin:20230513T150000
GEO:52.112568;9.624088
LOCATION:Hüttenstollen Osterwald\, Steigerbrink 25\, Salzhemmendorf
ORGANIZER;CN=Verein zur Förderung des Bergmannswesens Osterwald e.V.:mailto
 :kontakt@der-huettenstollen.de
SEQUENCE:0
SUMMARY:Mitgliederversammlung Bergmannsverein 
UID:e_100443296_iv1
URL:http://pages.destination.one/de/oestliches-weserbergland/streaming/deta
 il/Event/e_100443296/mitgliederversammlung-bergmannsverein
END:VEVENT
BEGIN:VEVENT
CATEGORIES:Versammlung
DESCRIPTION:\n\nmehr Informationen unter http://pages.destination.one/de/oe
 stliches-weserbergland/streaming/detail/Event/e_100443296/mitgliederversam
 mlung-bergmannsverein
DTEND;TZID=Europe/Berlin:20240525T235900
DTSTAMP:20260421T085949Z
DTSTART;TZID=Europe/Berlin:20240525T150000
GEO:52.112568;9.624088
LOCATION:Hüttenstollen Osterwald\, Steigerbrink 25\, Salzhemmendorf
ORGANIZER;CN=Verein zur Förderung des Bergmannswesens Osterwald e.V.:mailto
 :kontakt@der-huettenstollen.de
SEQUENCE:0
SUMMARY:Mitgliederversammlung Bergmannsverein 
UID:e_100443296_iv2
URL:http://pages.destination.one/de/oestliches-weserbergland/streaming/deta
 il/Event/e_100443296/mitgliederversammlung-bergmannsverein
END:VEVENT
BEGIN:VEVENT
CATEGORIES:Versammlung
DESCRIPTION:\n\nmehr Informationen unter http://pages.destination.one/de/oe
 stliches-weserbergland/streaming/detail/Event/e_100443296/mitgliederversam
 mlung-bergmannsverein
DTEND;TZID=Europe/Berlin:20250516T235900
DTSTAMP:20260421T085949Z
DTSTART;TZID=Europe/Berlin:20250516T180000
GEO:52.112568;9.624088
LOCATION:Hüttenstollen Osterwald\, Steigerbrink 25\, Salzhemmendorf
ORGANIZER;CN=Verein zur Förderung des Bergmannswesens Osterwald e.V.:mailto
 :kontakt@der-huettenstollen.de
SEQUENCE:0
SUMMARY:Mitgliederversammlung Bergmannsverein 
UID:e_100443296_iv3
URL:http://pages.destination.one/de/oestliches-weserbergland/streaming/deta
 il/Event/e_100443296/mitgliederversammlung-bergmannsverein
END:VEVENT
BEGIN:VEVENT
CATEGORIES:Versammlung
DESCRIPTION:\n\nmehr Informationen unter http://pages.destination.one/de/oe
 stliches-weserbergland/streaming/detail/Event/e_100443296/mitgliederversam
 mlung-bergmannsverein
DTEND;TZID=Europe/Berlin:20260508T235900
DTSTAMP:20260421T085949Z
DTSTART;TZID=Europe/Berlin:20260508T180000
GEO:52.112568;9.624088
LOCATION:Hüttenstollen Osterwald\, Steigerbrink 25\, Salzhemmendorf
ORGANIZER;CN=Verein zur Förderung des Bergmannswesens Osterwald e.V.:mailto
 :kontakt@der-huettenstollen.de
SEQUENCE:0
SUMMARY:Mitgliederversammlung Bergmannsverein 
UID:e_100443296_iv4
URL:http://pages.destination.one/de/oestliches-weserbergland/streaming/deta
 il/Event/e_100443296/mitgliederversammlung-bergmannsverein
END:VEVENT
BEGIN:VTIMEZONE
TZID:Europe/Berlin
X-LIC-LOCATION:Europe/Berlin
BEGIN:DAYLIGHT
DTSTART:19700329T020000
RRULE:FREQ=YEARLY;BYDAY=-1SU;BYMONTH=3
TZNAME:CEST
TZOFFSETFROM:+0100
TZOFFSETTO:+0200
END:DAYLIGHT
BEGIN:STANDARD
DTSTART:19701025T030000
RRULE:FREQ=YEARLY;BYDAY=-1SU;BYMONTH=10
TZNAME:CET
TZOFFSETFROM:+0200
TZOFFSETTO:+0100
END:STANDARD
END:VTIMEZONE
END:VCALENDAR
