BEGIN:VCALENDAR
VERSION:2.0
PRODID:-//destination.one//NONSGML destination.meta API//DE
X-WR-CALDESC:A calendar powered by destination.meta
X-WR-CALNAME:oestliches-weserbergland Kalender via destination.meta
BEGIN:VEVENT
CATEGORIES:Stadtrundgang
DESCRIPTION:\n\nmehr Informationen unter http://pages.destination.one/de/oe
 stliches-weserbergland/streaming/detail/Event/e_100273848/stadtf-hrung-bad
 -m-nder
DTEND;TZID=Europe/Berlin:20200822T235900
DTSTAMP:20260420T214835Z
DTSTART;TZID=Europe/Berlin:20200822T100000
GEO:52.196451;9.469320
LOCATION:Kurmittelhaus Bad Münder\, Osterstraße 39\, Bad Münder am Deister
ORGANIZER;CN=GeTour GmbH:mailto:info@bad-muender.de
SEQUENCE:0
SUMMARY:Stadtführung Bad Münder
UID:e_100273848_iv0
URL:http://pages.destination.one/de/oestliches-weserbergland/streaming/deta
 il/Event/e_100273848/stadtf-hrung-bad-m-nder
END:VEVENT
BEGIN:VEVENT
CATEGORIES:Stadtrundgang
DESCRIPTION:\n\nmehr Informationen unter http://pages.destination.one/de/oe
 stliches-weserbergland/streaming/detail/Event/e_100273848/stadtf-hrung-bad
 -m-nder
DTEND;TZID=Europe/Berlin:20200919T235900
DTSTAMP:20260420T214835Z
DTSTART;TZID=Europe/Berlin:20200919T100000
GEO:52.196451;9.469320
LOCATION:Kurmittelhaus Bad Münder\, Osterstraße 39\, Bad Münder am Deister
ORGANIZER;CN=GeTour GmbH:mailto:info@bad-muender.de
SEQUENCE:0
SUMMARY:Stadtführung Bad Münder
UID:e_100273848_iv1
URL:http://pages.destination.one/de/oestliches-weserbergland/streaming/deta
 il/Event/e_100273848/stadtf-hrung-bad-m-nder
END:VEVENT
BEGIN:VEVENT
CATEGORIES:Stadtrundgang
DESCRIPTION:\n\nmehr Informationen unter http://pages.destination.one/de/oe
 stliches-weserbergland/streaming/detail/Event/e_100273848/stadtf-hrung-bad
 -m-nder
DTEND;TZID=Europe/Berlin:20201121T235900
DTSTAMP:20260420T214835Z
DTSTART;TZID=Europe/Berlin:20201121T100000
GEO:52.196451;9.469320
LOCATION:Kurmittelhaus Bad Münder\, Osterstraße 39\, Bad Münder am Deister
ORGANIZER;CN=GeTour GmbH:mailto:info@bad-muender.de
SEQUENCE:0
SUMMARY:Stadtführung Bad Münder
UID:e_100273848_iv2
URL:http://pages.destination.one/de/oestliches-weserbergland/streaming/deta
 il/Event/e_100273848/stadtf-hrung-bad-m-nder
END:VEVENT
BEGIN:VEVENT
CATEGORIES:Stadtrundgang
DESCRIPTION:\n\nmehr Informationen unter http://pages.destination.one/de/oe
 stliches-weserbergland/streaming/detail/Event/e_100273848/stadtf-hrung-bad
 -m-nder
DTEND;TZID=Europe/Berlin:20201205T235900
DTSTAMP:20260420T214835Z
DTSTART;TZID=Europe/Berlin:20201205T100000
GEO:52.196451;9.469320
LOCATION:Kurmittelhaus Bad Münder\, Osterstraße 39\, Bad Münder am Deister
ORGANIZER;CN=GeTour GmbH:mailto:info@bad-muender.de
SEQUENCE:0
SUMMARY:Stadtführung Bad Münder
UID:e_100273848_iv3
URL:http://pages.destination.one/de/oestliches-weserbergland/streaming/deta
 il/Event/e_100273848/stadtf-hrung-bad-m-nder
END:VEVENT
BEGIN:VEVENT
CATEGORIES:Stadtrundgang
DESCRIPTION:\n\nmehr Informationen unter http://pages.destination.one/de/oe
 stliches-weserbergland/streaming/detail/Event/e_100273848/stadtf-hrung-bad
 -m-nder
DTEND;TZID=Europe/Berlin:20260418T113000
DTSTAMP:20260420T214835Z
DTSTART;TZID=Europe/Berlin:20260418T100000
GEO:52.196451;9.469320
LOCATION:Kurmittelhaus Bad Münder\, Osterstraße 39\, Bad Münder am Deister
ORGANIZER;CN=GeTour GmbH:mailto:info@bad-muender.de
SEQUENCE:0
SUMMARY:Stadtführung Bad Münder
UID:e_100273848_iv4
URL:http://pages.destination.one/de/oestliches-weserbergland/streaming/deta
 il/Event/e_100273848/stadtf-hrung-bad-m-nder
END:VEVENT
BEGIN:VEVENT
CATEGORIES:Stadtrundgang
DESCRIPTION:\n\nmehr Informationen unter http://pages.destination.one/de/oe
 stliches-weserbergland/streaming/detail/Event/e_100273848/stadtf-hrung-bad
 -m-nder
DTEND;TZID=Europe/Berlin:20260516T113000
DTSTAMP:20260420T214835Z
DTSTART;TZID=Europe/Berlin:20260516T100000
GEO:52.196451;9.469320
LOCATION:Kurmittelhaus Bad Münder\, Osterstraße 39\, Bad Münder am Deister
ORGANIZER;CN=GeTour GmbH:mailto:info@bad-muender.de
SEQUENCE:0
SUMMARY:Stadtführung Bad Münder
UID:e_100273848_iv5
URL:http://pages.destination.one/de/oestliches-weserbergland/streaming/deta
 il/Event/e_100273848/stadtf-hrung-bad-m-nder
END:VEVENT
BEGIN:VEVENT
CATEGORIES:Stadtrundgang
DESCRIPTION:\n\nmehr Informationen unter http://pages.destination.one/de/oe
 stliches-weserbergland/streaming/detail/Event/e_100273848/stadtf-hrung-bad
 -m-nder
DTEND;TZID=Europe/Berlin:20260620T113000
DTSTAMP:20260420T214835Z
DTSTART;TZID=Europe/Berlin:20260620T100000
GEO:52.196451;9.469320
LOCATION:Kurmittelhaus Bad Münder\, Osterstraße 39\, Bad Münder am Deister
ORGANIZER;CN=GeTour GmbH:mailto:info@bad-muender.de
SEQUENCE:0
SUMMARY:Stadtführung Bad Münder
UID:e_100273848_iv6
URL:http://pages.destination.one/de/oestliches-weserbergland/streaming/deta
 il/Event/e_100273848/stadtf-hrung-bad-m-nder
END:VEVENT
BEGIN:VEVENT
CATEGORIES:Stadtrundgang
DESCRIPTION:\n\nmehr Informationen unter http://pages.destination.one/de/oe
 stliches-weserbergland/streaming/detail/Event/e_100273848/stadtf-hrung-bad
 -m-nder
DTEND;TZID=Europe/Berlin:20260718T113000
DTSTAMP:20260420T214835Z
DTSTART;TZID=Europe/Berlin:20260718T100000
GEO:52.196451;9.469320
LOCATION:Kurmittelhaus Bad Münder\, Osterstraße 39\, Bad Münder am Deister
ORGANIZER;CN=GeTour GmbH:mailto:info@bad-muender.de
SEQUENCE:0
SUMMARY:Stadtführung Bad Münder
UID:e_100273848_iv7
URL:http://pages.destination.one/de/oestliches-weserbergland/streaming/deta
 il/Event/e_100273848/stadtf-hrung-bad-m-nder
END:VEVENT
BEGIN:VEVENT
CATEGORIES:Stadtrundgang
DESCRIPTION:\n\nmehr Informationen unter http://pages.destination.one/de/oe
 stliches-weserbergland/streaming/detail/Event/e_100273848/stadtf-hrung-bad
 -m-nder
DTEND;TZID=Europe/Berlin:20260815T113000
DTSTAMP:20260420T214835Z
DTSTART;TZID=Europe/Berlin:20260815T100000
GEO:52.196451;9.469320
LOCATION:Kurmittelhaus Bad Münder\, Osterstraße 39\, Bad Münder am Deister
ORGANIZER;CN=GeTour GmbH:mailto:info@bad-muender.de
SEQUENCE:0
SUMMARY:Stadtführung Bad Münder
UID:e_100273848_iv8
URL:http://pages.destination.one/de/oestliches-weserbergland/streaming/deta
 il/Event/e_100273848/stadtf-hrung-bad-m-nder
END:VEVENT
BEGIN:VEVENT
CATEGORIES:Stadtrundgang
DESCRIPTION:\n\nmehr Informationen unter http://pages.destination.one/de/oe
 stliches-weserbergland/streaming/detail/Event/e_100273848/stadtf-hrung-bad
 -m-nder
DTEND;TZID=Europe/Berlin:20260919T113000
DTSTAMP:20260420T214835Z
DTSTART;TZID=Europe/Berlin:20260919T100000
GEO:52.196451;9.469320
LOCATION:Kurmittelhaus Bad Münder\, Osterstraße 39\, Bad Münder am Deister
ORGANIZER;CN=GeTour GmbH:mailto:info@bad-muender.de
SEQUENCE:0
SUMMARY:Stadtführung Bad Münder
UID:e_100273848_iv9
URL:http://pages.destination.one/de/oestliches-weserbergland/streaming/deta
 il/Event/e_100273848/stadtf-hrung-bad-m-nder
END:VEVENT
BEGIN:VEVENT
CATEGORIES:Stadtrundgang
DESCRIPTION:\n\nmehr Informationen unter http://pages.destination.one/de/oe
 stliches-weserbergland/streaming/detail/Event/e_100273848/stadtf-hrung-bad
 -m-nder
DTEND;TZID=Europe/Berlin:20261017T113000
DTSTAMP:20260420T214835Z
DTSTART;TZID=Europe/Berlin:20261017T100000
GEO:52.196451;9.469320
LOCATION:Kurmittelhaus Bad Münder\, Osterstraße 39\, Bad Münder am Deister
ORGANIZER;CN=GeTour GmbH:mailto:info@bad-muender.de
SEQUENCE:0
SUMMARY:Stadtführung Bad Münder
UID:e_100273848_iv10
URL:http://pages.destination.one/de/oestliches-weserbergland/streaming/deta
 il/Event/e_100273848/stadtf-hrung-bad-m-nder
END:VEVENT
BEGIN:VTIMEZONE
TZID:Europe/Berlin
X-LIC-LOCATION:Europe/Berlin
BEGIN:DAYLIGHT
DTSTART:19700329T020000
RRULE:FREQ=YEARLY;BYDAY=-1SU;BYMONTH=3
TZNAME:CEST
TZOFFSETFROM:+0100
TZOFFSETTO:+0200
END:DAYLIGHT
BEGIN:STANDARD
DTSTART:19701025T030000
RRULE:FREQ=YEARLY;BYDAY=-1SU;BYMONTH=10
TZNAME:CET
TZOFFSETFROM:+0200
TZOFFSETTO:+0100
END:STANDARD
END:VTIMEZONE
END:VCALENDAR
