BEGIN:VCALENDAR
VERSION:2.0
PRODID:-//destination.one//NONSGML destination.meta API//DE
X-WR-CALDESC:A calendar powered by destination.meta
X-WR-CALNAME:oestliches-weserbergland Kalender via destination.meta
BEGIN:VEVENT
CATEGORIES:Führung
CATEGORIES:Kostümführung
CATEGORIES:Themenführung
DESCRIPTION:\n\nmehr Informationen unter http://pages.destination.one/de/oe
 stliches-weserbergland/streaming/detail/Event/e_100268956/rundgang-mit-der
 -nachtw-chterin
DTEND;TZID=Europe/Berlin:20200805T235900
DTSTAMP:20260420T123511Z
DTSTART;TZID=Europe/Berlin:20200805T200000
GEO:52.196451;9.469320
LOCATION:Kurmittelhaus Bad Münder\, Osterstraße 39\, Bad Münder am Deister
ORGANIZER;CN=Landsommer Weserbergland:mailto:mueller@gaestefuehrungen-weser
 bergland.de
SEQUENCE:0
SUMMARY:Rundgang mit der Nachtwächterin 
UID:e_100268956_iv0
URL:http://pages.destination.one/de/oestliches-weserbergland/streaming/deta
 il/Event/e_100268956/rundgang-mit-der-nachtw-chterin
END:VEVENT
BEGIN:VEVENT
CATEGORIES:Führung
CATEGORIES:Kostümführung
CATEGORIES:Themenführung
DESCRIPTION:\n\nmehr Informationen unter http://pages.destination.one/de/oe
 stliches-weserbergland/streaming/detail/Event/e_100268956/rundgang-mit-der
 -nachtw-chterin
DTEND;TZID=Europe/Berlin:20200902T235900
DTSTAMP:20260420T123511Z
DTSTART;TZID=Europe/Berlin:20200902T200000
GEO:52.196451;9.469320
LOCATION:Kurmittelhaus Bad Münder\, Osterstraße 39\, Bad Münder am Deister
ORGANIZER;CN=Landsommer Weserbergland:mailto:mueller@gaestefuehrungen-weser
 bergland.de
SEQUENCE:0
SUMMARY:Rundgang mit der Nachtwächterin 
UID:e_100268956_iv1
URL:http://pages.destination.one/de/oestliches-weserbergland/streaming/deta
 il/Event/e_100268956/rundgang-mit-der-nachtw-chterin
END:VEVENT
BEGIN:VEVENT
CATEGORIES:Führung
CATEGORIES:Kostümführung
CATEGORIES:Themenführung
DESCRIPTION:\n\nmehr Informationen unter http://pages.destination.one/de/oe
 stliches-weserbergland/streaming/detail/Event/e_100268956/rundgang-mit-der
 -nachtw-chterin
DTEND;TZID=Europe/Berlin:20201007T235900
DTSTAMP:20260420T123511Z
DTSTART;TZID=Europe/Berlin:20201007T200000
GEO:52.196451;9.469320
LOCATION:Kurmittelhaus Bad Münder\, Osterstraße 39\, Bad Münder am Deister
ORGANIZER;CN=Landsommer Weserbergland:mailto:mueller@gaestefuehrungen-weser
 bergland.de
SEQUENCE:0
SUMMARY:Rundgang mit der Nachtwächterin 
UID:e_100268956_iv2
URL:http://pages.destination.one/de/oestliches-weserbergland/streaming/deta
 il/Event/e_100268956/rundgang-mit-der-nachtw-chterin
END:VEVENT
BEGIN:VEVENT
CATEGORIES:Führung
CATEGORIES:Kostümführung
CATEGORIES:Themenführung
DESCRIPTION:\n\nmehr Informationen unter http://pages.destination.one/de/oe
 stliches-weserbergland/streaming/detail/Event/e_100268956/rundgang-mit-der
 -nachtw-chterin
DTEND;TZID=Europe/Berlin:20201104T235900
DTSTAMP:20260420T123511Z
DTSTART;TZID=Europe/Berlin:20201104T200000
GEO:52.196451;9.469320
LOCATION:Kurmittelhaus Bad Münder\, Osterstraße 39\, Bad Münder am Deister
ORGANIZER;CN=Landsommer Weserbergland:mailto:mueller@gaestefuehrungen-weser
 bergland.de
SEQUENCE:0
SUMMARY:Rundgang mit der Nachtwächterin 
UID:e_100268956_iv3
URL:http://pages.destination.one/de/oestliches-weserbergland/streaming/deta
 il/Event/e_100268956/rundgang-mit-der-nachtw-chterin
END:VEVENT
BEGIN:VEVENT
CATEGORIES:Führung
CATEGORIES:Kostümführung
CATEGORIES:Themenführung
DESCRIPTION:\n\nmehr Informationen unter http://pages.destination.one/de/oe
 stliches-weserbergland/streaming/detail/Event/e_100268956/rundgang-mit-der
 -nachtw-chterin
DTEND;TZID=Europe/Berlin:20201202T235900
DTSTAMP:20260420T123511Z
DTSTART;TZID=Europe/Berlin:20201202T200000
GEO:52.196451;9.469320
LOCATION:Kurmittelhaus Bad Münder\, Osterstraße 39\, Bad Münder am Deister
ORGANIZER;CN=Landsommer Weserbergland:mailto:mueller@gaestefuehrungen-weser
 bergland.de
SEQUENCE:0
SUMMARY:Rundgang mit der Nachtwächterin 
UID:e_100268956_iv4
URL:http://pages.destination.one/de/oestliches-weserbergland/streaming/deta
 il/Event/e_100268956/rundgang-mit-der-nachtw-chterin
END:VEVENT
BEGIN:VEVENT
CATEGORIES:Führung
CATEGORIES:Kostümführung
CATEGORIES:Themenführung
DESCRIPTION:\n\nmehr Informationen unter http://pages.destination.one/de/oe
 stliches-weserbergland/streaming/detail/Event/e_100268956/rundgang-mit-der
 -nachtw-chterin
DTEND;TZID=Europe/Berlin:20210106T235900
DTSTAMP:20260420T123511Z
DTSTART;TZID=Europe/Berlin:20210106T200000
GEO:52.196451;9.469320
LOCATION:Kurmittelhaus Bad Münder\, Osterstraße 39\, Bad Münder am Deister
ORGANIZER;CN=Landsommer Weserbergland:mailto:mueller@gaestefuehrungen-weser
 bergland.de
SEQUENCE:0
SUMMARY:Rundgang mit der Nachtwächterin 
UID:e_100268956_iv5
URL:http://pages.destination.one/de/oestliches-weserbergland/streaming/deta
 il/Event/e_100268956/rundgang-mit-der-nachtw-chterin
END:VEVENT
BEGIN:VEVENT
CATEGORIES:Führung
CATEGORIES:Kostümführung
CATEGORIES:Themenführung
DESCRIPTION:\n\nmehr Informationen unter http://pages.destination.one/de/oe
 stliches-weserbergland/streaming/detail/Event/e_100268956/rundgang-mit-der
 -nachtw-chterin
DTEND;TZID=Europe/Berlin:20210203T235900
DTSTAMP:20260420T123511Z
DTSTART;TZID=Europe/Berlin:20210203T200000
GEO:52.196451;9.469320
LOCATION:Kurmittelhaus Bad Münder\, Osterstraße 39\, Bad Münder am Deister
ORGANIZER;CN=Landsommer Weserbergland:mailto:mueller@gaestefuehrungen-weser
 bergland.de
SEQUENCE:0
SUMMARY:Rundgang mit der Nachtwächterin 
UID:e_100268956_iv6
URL:http://pages.destination.one/de/oestliches-weserbergland/streaming/deta
 il/Event/e_100268956/rundgang-mit-der-nachtw-chterin
END:VEVENT
BEGIN:VEVENT
CATEGORIES:Führung
CATEGORIES:Kostümführung
CATEGORIES:Themenführung
DESCRIPTION:\n\nmehr Informationen unter http://pages.destination.one/de/oe
 stliches-weserbergland/streaming/detail/Event/e_100268956/rundgang-mit-der
 -nachtw-chterin
DTEND;TZID=Europe/Berlin:20210707T235900
DTSTAMP:20260420T123511Z
DTSTART;TZID=Europe/Berlin:20210707T200000
GEO:52.196451;9.469320
LOCATION:Kurmittelhaus Bad Münder\, Osterstraße 39\, Bad Münder am Deister
ORGANIZER;CN=Landsommer Weserbergland:mailto:mueller@gaestefuehrungen-weser
 bergland.de
SEQUENCE:0
SUMMARY:Rundgang mit der Nachtwächterin 
UID:e_100268956_iv7
URL:http://pages.destination.one/de/oestliches-weserbergland/streaming/deta
 il/Event/e_100268956/rundgang-mit-der-nachtw-chterin
END:VEVENT
BEGIN:VEVENT
CATEGORIES:Führung
CATEGORIES:Kostümführung
CATEGORIES:Themenführung
DESCRIPTION:\n\nmehr Informationen unter http://pages.destination.one/de/oe
 stliches-weserbergland/streaming/detail/Event/e_100268956/rundgang-mit-der
 -nachtw-chterin
DTEND;TZID=Europe/Berlin:20210804T235900
DTSTAMP:20260420T123511Z
DTSTART;TZID=Europe/Berlin:20210804T200000
GEO:52.196451;9.469320
LOCATION:Kurmittelhaus Bad Münder\, Osterstraße 39\, Bad Münder am Deister
ORGANIZER;CN=Landsommer Weserbergland:mailto:mueller@gaestefuehrungen-weser
 bergland.de
SEQUENCE:0
SUMMARY:Rundgang mit der Nachtwächterin 
UID:e_100268956_iv8
URL:http://pages.destination.one/de/oestliches-weserbergland/streaming/deta
 il/Event/e_100268956/rundgang-mit-der-nachtw-chterin
END:VEVENT
BEGIN:VEVENT
CATEGORIES:Führung
CATEGORIES:Kostümführung
CATEGORIES:Themenführung
DESCRIPTION:\n\nmehr Informationen unter http://pages.destination.one/de/oe
 stliches-weserbergland/streaming/detail/Event/e_100268956/rundgang-mit-der
 -nachtw-chterin
DTEND;TZID=Europe/Berlin:20210901T235900
DTSTAMP:20260420T123511Z
DTSTART;TZID=Europe/Berlin:20210901T200000
GEO:52.196451;9.469320
LOCATION:Kurmittelhaus Bad Münder\, Osterstraße 39\, Bad Münder am Deister
ORGANIZER;CN=Landsommer Weserbergland:mailto:mueller@gaestefuehrungen-weser
 bergland.de
SEQUENCE:0
SUMMARY:Rundgang mit der Nachtwächterin 
UID:e_100268956_iv9
URL:http://pages.destination.one/de/oestliches-weserbergland/streaming/deta
 il/Event/e_100268956/rundgang-mit-der-nachtw-chterin
END:VEVENT
BEGIN:VEVENT
CATEGORIES:Führung
CATEGORIES:Kostümführung
CATEGORIES:Themenführung
DESCRIPTION:\n\nmehr Informationen unter http://pages.destination.one/de/oe
 stliches-weserbergland/streaming/detail/Event/e_100268956/rundgang-mit-der
 -nachtw-chterin
DTEND;TZID=Europe/Berlin:20211006T235900
DTSTAMP:20260420T123511Z
DTSTART;TZID=Europe/Berlin:20211006T200000
GEO:52.196451;9.469320
LOCATION:Kurmittelhaus Bad Münder\, Osterstraße 39\, Bad Münder am Deister
ORGANIZER;CN=Landsommer Weserbergland:mailto:mueller@gaestefuehrungen-weser
 bergland.de
SEQUENCE:0
SUMMARY:Rundgang mit der Nachtwächterin 
UID:e_100268956_iv10
URL:http://pages.destination.one/de/oestliches-weserbergland/streaming/deta
 il/Event/e_100268956/rundgang-mit-der-nachtw-chterin
END:VEVENT
BEGIN:VEVENT
CATEGORIES:Führung
CATEGORIES:Kostümführung
CATEGORIES:Themenführung
DESCRIPTION:\n\nmehr Informationen unter http://pages.destination.one/de/oe
 stliches-weserbergland/streaming/detail/Event/e_100268956/rundgang-mit-der
 -nachtw-chterin
DTEND;TZID=Europe/Berlin:20211103T235900
DTSTAMP:20260420T123511Z
DTSTART;TZID=Europe/Berlin:20211103T200000
GEO:52.196451;9.469320
LOCATION:Kurmittelhaus Bad Münder\, Osterstraße 39\, Bad Münder am Deister
ORGANIZER;CN=Landsommer Weserbergland:mailto:mueller@gaestefuehrungen-weser
 bergland.de
SEQUENCE:0
SUMMARY:Rundgang mit der Nachtwächterin 
UID:e_100268956_iv11
URL:http://pages.destination.one/de/oestliches-weserbergland/streaming/deta
 il/Event/e_100268956/rundgang-mit-der-nachtw-chterin
END:VEVENT
BEGIN:VEVENT
CATEGORIES:Führung
CATEGORIES:Kostümführung
CATEGORIES:Themenführung
DESCRIPTION:\n\nmehr Informationen unter http://pages.destination.one/de/oe
 stliches-weserbergland/streaming/detail/Event/e_100268956/rundgang-mit-der
 -nachtw-chterin
DTEND;TZID=Europe/Berlin:20211201T235900
DTSTAMP:20260420T123511Z
DTSTART;TZID=Europe/Berlin:20211201T200000
GEO:52.196451;9.469320
LOCATION:Kurmittelhaus Bad Münder\, Osterstraße 39\, Bad Münder am Deister
ORGANIZER;CN=Landsommer Weserbergland:mailto:mueller@gaestefuehrungen-weser
 bergland.de
SEQUENCE:0
SUMMARY:Rundgang mit der Nachtwächterin 
UID:e_100268956_iv12
URL:http://pages.destination.one/de/oestliches-weserbergland/streaming/deta
 il/Event/e_100268956/rundgang-mit-der-nachtw-chterin
END:VEVENT
BEGIN:VEVENT
CATEGORIES:Führung
CATEGORIES:Kostümführung
CATEGORIES:Themenführung
DESCRIPTION:\n\nmehr Informationen unter http://pages.destination.one/de/oe
 stliches-weserbergland/streaming/detail/Event/e_100268956/rundgang-mit-der
 -nachtw-chterin
DTEND;TZID=Europe/Berlin:20220302T235900
DTSTAMP:20260420T123511Z
DTSTART;TZID=Europe/Berlin:20220302T200000
GEO:52.196451;9.469320
LOCATION:Kurmittelhaus Bad Münder\, Osterstraße 39\, Bad Münder am Deister
ORGANIZER;CN=Landsommer Weserbergland:mailto:mueller@gaestefuehrungen-weser
 bergland.de
SEQUENCE:0
SUMMARY:Rundgang mit der Nachtwächterin 
UID:e_100268956_iv13
URL:http://pages.destination.one/de/oestliches-weserbergland/streaming/deta
 il/Event/e_100268956/rundgang-mit-der-nachtw-chterin
END:VEVENT
BEGIN:VEVENT
CATEGORIES:Führung
CATEGORIES:Kostümführung
CATEGORIES:Themenführung
DESCRIPTION:\n\nmehr Informationen unter http://pages.destination.one/de/oe
 stliches-weserbergland/streaming/detail/Event/e_100268956/rundgang-mit-der
 -nachtw-chterin
DTEND;TZID=Europe/Berlin:20220406T235900
DTSTAMP:20260420T123511Z
DTSTART;TZID=Europe/Berlin:20220406T200000
GEO:52.196451;9.469320
LOCATION:Kurmittelhaus Bad Münder\, Osterstraße 39\, Bad Münder am Deister
ORGANIZER;CN=Landsommer Weserbergland:mailto:mueller@gaestefuehrungen-weser
 bergland.de
SEQUENCE:0
SUMMARY:Rundgang mit der Nachtwächterin 
UID:e_100268956_iv14
URL:http://pages.destination.one/de/oestliches-weserbergland/streaming/deta
 il/Event/e_100268956/rundgang-mit-der-nachtw-chterin
END:VEVENT
BEGIN:VEVENT
CATEGORIES:Führung
CATEGORIES:Kostümführung
CATEGORIES:Themenführung
DESCRIPTION:\n\nmehr Informationen unter http://pages.destination.one/de/oe
 stliches-weserbergland/streaming/detail/Event/e_100268956/rundgang-mit-der
 -nachtw-chterin
DTEND;TZID=Europe/Berlin:20220504T235900
DTSTAMP:20260420T123511Z
DTSTART;TZID=Europe/Berlin:20220504T200000
GEO:52.196451;9.469320
LOCATION:Kurmittelhaus Bad Münder\, Osterstraße 39\, Bad Münder am Deister
ORGANIZER;CN=Landsommer Weserbergland:mailto:mueller@gaestefuehrungen-weser
 bergland.de
SEQUENCE:0
SUMMARY:Rundgang mit der Nachtwächterin 
UID:e_100268956_iv15
URL:http://pages.destination.one/de/oestliches-weserbergland/streaming/deta
 il/Event/e_100268956/rundgang-mit-der-nachtw-chterin
END:VEVENT
BEGIN:VEVENT
CATEGORIES:Führung
CATEGORIES:Kostümführung
CATEGORIES:Themenführung
DESCRIPTION:\n\nmehr Informationen unter http://pages.destination.one/de/oe
 stliches-weserbergland/streaming/detail/Event/e_100268956/rundgang-mit-der
 -nachtw-chterin
DTEND;TZID=Europe/Berlin:20220601T235900
DTSTAMP:20260420T123511Z
DTSTART;TZID=Europe/Berlin:20220601T200000
GEO:52.196451;9.469320
LOCATION:Kurmittelhaus Bad Münder\, Osterstraße 39\, Bad Münder am Deister
ORGANIZER;CN=Landsommer Weserbergland:mailto:mueller@gaestefuehrungen-weser
 bergland.de
SEQUENCE:0
SUMMARY:Rundgang mit der Nachtwächterin 
UID:e_100268956_iv16
URL:http://pages.destination.one/de/oestliches-weserbergland/streaming/deta
 il/Event/e_100268956/rundgang-mit-der-nachtw-chterin
END:VEVENT
BEGIN:VEVENT
CATEGORIES:Führung
CATEGORIES:Kostümführung
CATEGORIES:Themenführung
DESCRIPTION:\n\nmehr Informationen unter http://pages.destination.one/de/oe
 stliches-weserbergland/streaming/detail/Event/e_100268956/rundgang-mit-der
 -nachtw-chterin
DTEND;TZID=Europe/Berlin:20220706T235900
DTSTAMP:20260420T123511Z
DTSTART;TZID=Europe/Berlin:20220706T200000
GEO:52.196451;9.469320
LOCATION:Kurmittelhaus Bad Münder\, Osterstraße 39\, Bad Münder am Deister
ORGANIZER;CN=Landsommer Weserbergland:mailto:mueller@gaestefuehrungen-weser
 bergland.de
SEQUENCE:0
SUMMARY:Rundgang mit der Nachtwächterin 
UID:e_100268956_iv17
URL:http://pages.destination.one/de/oestliches-weserbergland/streaming/deta
 il/Event/e_100268956/rundgang-mit-der-nachtw-chterin
END:VEVENT
BEGIN:VEVENT
CATEGORIES:Führung
CATEGORIES:Kostümführung
CATEGORIES:Themenführung
DESCRIPTION:\n\nmehr Informationen unter http://pages.destination.one/de/oe
 stliches-weserbergland/streaming/detail/Event/e_100268956/rundgang-mit-der
 -nachtw-chterin
DTEND;TZID=Europe/Berlin:20220803T235900
DTSTAMP:20260420T123511Z
DTSTART;TZID=Europe/Berlin:20220803T200000
GEO:52.196451;9.469320
LOCATION:Kurmittelhaus Bad Münder\, Osterstraße 39\, Bad Münder am Deister
ORGANIZER;CN=Landsommer Weserbergland:mailto:mueller@gaestefuehrungen-weser
 bergland.de
SEQUENCE:0
SUMMARY:Rundgang mit der Nachtwächterin 
UID:e_100268956_iv18
URL:http://pages.destination.one/de/oestliches-weserbergland/streaming/deta
 il/Event/e_100268956/rundgang-mit-der-nachtw-chterin
END:VEVENT
BEGIN:VEVENT
CATEGORIES:Führung
CATEGORIES:Kostümführung
CATEGORIES:Themenführung
DESCRIPTION:\n\nmehr Informationen unter http://pages.destination.one/de/oe
 stliches-weserbergland/streaming/detail/Event/e_100268956/rundgang-mit-der
 -nachtw-chterin
DTEND;TZID=Europe/Berlin:20220907T235900
DTSTAMP:20260420T123511Z
DTSTART;TZID=Europe/Berlin:20220907T200000
GEO:52.196451;9.469320
LOCATION:Kurmittelhaus Bad Münder\, Osterstraße 39\, Bad Münder am Deister
ORGANIZER;CN=Landsommer Weserbergland:mailto:mueller@gaestefuehrungen-weser
 bergland.de
SEQUENCE:0
SUMMARY:Rundgang mit der Nachtwächterin 
UID:e_100268956_iv19
URL:http://pages.destination.one/de/oestliches-weserbergland/streaming/deta
 il/Event/e_100268956/rundgang-mit-der-nachtw-chterin
END:VEVENT
BEGIN:VEVENT
CATEGORIES:Führung
CATEGORIES:Kostümführung
CATEGORIES:Themenführung
DESCRIPTION:\n\nmehr Informationen unter http://pages.destination.one/de/oe
 stliches-weserbergland/streaming/detail/Event/e_100268956/rundgang-mit-der
 -nachtw-chterin
DTEND;TZID=Europe/Berlin:20221005T235900
DTSTAMP:20260420T123511Z
DTSTART;TZID=Europe/Berlin:20221005T200000
GEO:52.196451;9.469320
LOCATION:Kurmittelhaus Bad Münder\, Osterstraße 39\, Bad Münder am Deister
ORGANIZER;CN=Landsommer Weserbergland:mailto:mueller@gaestefuehrungen-weser
 bergland.de
SEQUENCE:0
SUMMARY:Rundgang mit der Nachtwächterin 
UID:e_100268956_iv20
URL:http://pages.destination.one/de/oestliches-weserbergland/streaming/deta
 il/Event/e_100268956/rundgang-mit-der-nachtw-chterin
END:VEVENT
BEGIN:VEVENT
CATEGORIES:Führung
CATEGORIES:Kostümführung
CATEGORIES:Themenführung
DESCRIPTION:\n\nmehr Informationen unter http://pages.destination.one/de/oe
 stliches-weserbergland/streaming/detail/Event/e_100268956/rundgang-mit-der
 -nachtw-chterin
DTEND;TZID=Europe/Berlin:20221207T235900
DTSTAMP:20260420T123511Z
DTSTART;TZID=Europe/Berlin:20221207T200000
GEO:52.196451;9.469320
LOCATION:Kurmittelhaus Bad Münder\, Osterstraße 39\, Bad Münder am Deister
ORGANIZER;CN=Landsommer Weserbergland:mailto:mueller@gaestefuehrungen-weser
 bergland.de
SEQUENCE:0
SUMMARY:Rundgang mit der Nachtwächterin 
UID:e_100268956_iv21
URL:http://pages.destination.one/de/oestliches-weserbergland/streaming/deta
 il/Event/e_100268956/rundgang-mit-der-nachtw-chterin
END:VEVENT
BEGIN:VEVENT
CATEGORIES:Führung
CATEGORIES:Kostümführung
CATEGORIES:Themenführung
DESCRIPTION:\n\nmehr Informationen unter http://pages.destination.one/de/oe
 stliches-weserbergland/streaming/detail/Event/e_100268956/rundgang-mit-der
 -nachtw-chterin
DTEND;TZID=Europe/Berlin:20230705T235900
DTSTAMP:20260420T123511Z
DTSTART;TZID=Europe/Berlin:20230705T200000
GEO:52.196451;9.469320
LOCATION:Kurmittelhaus Bad Münder\, Osterstraße 39\, Bad Münder am Deister
ORGANIZER;CN=Landsommer Weserbergland:mailto:mueller@gaestefuehrungen-weser
 bergland.de
RRULE:FREQ=MONTHLY;UNTIL=20241105T225900;BYDAY=1WE
SEQUENCE:0
SUMMARY:Rundgang mit der Nachtwächterin 
UID:e_100268956_iv22
URL:http://pages.destination.one/de/oestliches-weserbergland/streaming/deta
 il/Event/e_100268956/rundgang-mit-der-nachtw-chterin
END:VEVENT
BEGIN:VEVENT
CATEGORIES:Führung
CATEGORIES:Kostümführung
CATEGORIES:Themenführung
DESCRIPTION:\n\nmehr Informationen unter http://pages.destination.one/de/oe
 stliches-weserbergland/streaming/detail/Event/e_100268956/rundgang-mit-der
 -nachtw-chterin
DTEND;TZID=Europe/Berlin:20241105T235900
DTSTAMP:20260420T123511Z
DTSTART;TZID=Europe/Berlin:20241105T200000
GEO:52.196451;9.469320
LOCATION:Kurmittelhaus Bad Münder\, Osterstraße 39\, Bad Münder am Deister
ORGANIZER;CN=Landsommer Weserbergland:mailto:mueller@gaestefuehrungen-weser
 bergland.de
SEQUENCE:0
SUMMARY:Rundgang mit der Nachtwächterin 
UID:e_100268956_iv23
URL:http://pages.destination.one/de/oestliches-weserbergland/streaming/deta
 il/Event/e_100268956/rundgang-mit-der-nachtw-chterin
END:VEVENT
BEGIN:VEVENT
CATEGORIES:Führung
CATEGORIES:Kostümführung
CATEGORIES:Themenführung
DESCRIPTION:\n\nmehr Informationen unter http://pages.destination.one/de/oe
 stliches-weserbergland/streaming/detail/Event/e_100268956/rundgang-mit-der
 -nachtw-chterin
DTEND;TZID=Europe/Berlin:20241203T235900
DTSTAMP:20260420T123511Z
DTSTART;TZID=Europe/Berlin:20241203T200000
GEO:52.196451;9.469320
LOCATION:Kurmittelhaus Bad Münder\, Osterstraße 39\, Bad Münder am Deister
ORGANIZER;CN=Landsommer Weserbergland:mailto:mueller@gaestefuehrungen-weser
 bergland.de
SEQUENCE:0
SUMMARY:Rundgang mit der Nachtwächterin 
UID:e_100268956_iv24
URL:http://pages.destination.one/de/oestliches-weserbergland/streaming/deta
 il/Event/e_100268956/rundgang-mit-der-nachtw-chterin
END:VEVENT
BEGIN:VEVENT
CATEGORIES:Führung
CATEGORIES:Kostümführung
CATEGORIES:Themenführung
DESCRIPTION:\n\nmehr Informationen unter http://pages.destination.one/de/oe
 stliches-weserbergland/streaming/detail/Event/e_100268956/rundgang-mit-der
 -nachtw-chterin
DTEND;TZID=Europe/Berlin:20250108T235900
DTSTAMP:20260420T123511Z
DTSTART;TZID=Europe/Berlin:20250108T200000
GEO:52.196451;9.469320
LOCATION:Kurmittelhaus Bad Münder\, Osterstraße 39\, Bad Münder am Deister
ORGANIZER;CN=Landsommer Weserbergland:mailto:mueller@gaestefuehrungen-weser
 bergland.de
RRULE:FREQ=MONTHLY;UNTIL=20250513T215900;BYDAY=2WE
SEQUENCE:0
SUMMARY:Rundgang mit der Nachtwächterin 
UID:e_100268956_iv25
URL:http://pages.destination.one/de/oestliches-weserbergland/streaming/deta
 il/Event/e_100268956/rundgang-mit-der-nachtw-chterin
END:VEVENT
BEGIN:VEVENT
CATEGORIES:Führung
CATEGORIES:Kostümführung
CATEGORIES:Themenführung
DESCRIPTION:\n\nmehr Informationen unter http://pages.destination.one/de/oe
 stliches-weserbergland/streaming/detail/Event/e_100268956/rundgang-mit-der
 -nachtw-chterin
DTEND;TZID=Europe/Berlin:20250507T235900
DTSTAMP:20260420T123511Z
DTSTART;TZID=Europe/Berlin:20250507T200000
GEO:52.196451;9.469320
LOCATION:Kurmittelhaus Bad Münder\, Osterstraße 39\, Bad Münder am Deister
ORGANIZER;CN=Landsommer Weserbergland:mailto:mueller@gaestefuehrungen-weser
 bergland.de
SEQUENCE:0
SUMMARY:Rundgang mit der Nachtwächterin 
UID:e_100268956_iv26
URL:http://pages.destination.one/de/oestliches-weserbergland/streaming/deta
 il/Event/e_100268956/rundgang-mit-der-nachtw-chterin
END:VEVENT
BEGIN:VEVENT
CATEGORIES:Führung
CATEGORIES:Kostümführung
CATEGORIES:Themenführung
DESCRIPTION:\n\nmehr Informationen unter http://pages.destination.one/de/oe
 stliches-weserbergland/streaming/detail/Event/e_100268956/rundgang-mit-der
 -nachtw-chterin
DTEND;TZID=Europe/Berlin:20250604T235900
DTSTAMP:20260420T123511Z
DTSTART;TZID=Europe/Berlin:20250604T200000
GEO:52.196451;9.469320
LOCATION:Kurmittelhaus Bad Münder\, Osterstraße 39\, Bad Münder am Deister
ORGANIZER;CN=Landsommer Weserbergland:mailto:mueller@gaestefuehrungen-weser
 bergland.de
SEQUENCE:0
SUMMARY:Rundgang mit der Nachtwächterin 
UID:e_100268956_iv27
URL:http://pages.destination.one/de/oestliches-weserbergland/streaming/deta
 il/Event/e_100268956/rundgang-mit-der-nachtw-chterin
END:VEVENT
BEGIN:VEVENT
CATEGORIES:Führung
CATEGORIES:Kostümführung
CATEGORIES:Themenführung
DESCRIPTION:\n\nmehr Informationen unter http://pages.destination.one/de/oe
 stliches-weserbergland/streaming/detail/Event/e_100268956/rundgang-mit-der
 -nachtw-chterin
DTEND;TZID=Europe/Berlin:20250702T235900
DTSTAMP:20260420T123511Z
DTSTART;TZID=Europe/Berlin:20250702T200000
GEO:52.196451;9.469320
LOCATION:Kurmittelhaus Bad Münder\, Osterstraße 39\, Bad Münder am Deister
ORGANIZER;CN=Landsommer Weserbergland:mailto:mueller@gaestefuehrungen-weser
 bergland.de
SEQUENCE:0
SUMMARY:Rundgang mit der Nachtwächterin 
UID:e_100268956_iv28
URL:http://pages.destination.one/de/oestliches-weserbergland/streaming/deta
 il/Event/e_100268956/rundgang-mit-der-nachtw-chterin
END:VEVENT
BEGIN:VEVENT
CATEGORIES:Führung
CATEGORIES:Kostümführung
CATEGORIES:Themenführung
DESCRIPTION:\n\nmehr Informationen unter http://pages.destination.one/de/oe
 stliches-weserbergland/streaming/detail/Event/e_100268956/rundgang-mit-der
 -nachtw-chterin
DTEND;TZID=Europe/Berlin:20250806T235900
DTSTAMP:20260420T123511Z
DTSTART;TZID=Europe/Berlin:20250806T200000
GEO:52.196451;9.469320
LOCATION:Kurmittelhaus Bad Münder\, Osterstraße 39\, Bad Münder am Deister
ORGANIZER;CN=Landsommer Weserbergland:mailto:mueller@gaestefuehrungen-weser
 bergland.de
SEQUENCE:0
SUMMARY:Rundgang mit der Nachtwächterin 
UID:e_100268956_iv29
URL:http://pages.destination.one/de/oestliches-weserbergland/streaming/deta
 il/Event/e_100268956/rundgang-mit-der-nachtw-chterin
END:VEVENT
BEGIN:VEVENT
CATEGORIES:Führung
CATEGORIES:Kostümführung
CATEGORIES:Themenführung
DESCRIPTION:\n\nmehr Informationen unter http://pages.destination.one/de/oe
 stliches-weserbergland/streaming/detail/Event/e_100268956/rundgang-mit-der
 -nachtw-chterin
DTEND;TZID=Europe/Berlin:20250820T235900
DTSTAMP:20260420T123511Z
DTSTART;TZID=Europe/Berlin:20250820T200000
GEO:52.196451;9.469320
LOCATION:Kurmittelhaus Bad Münder\, Osterstraße 39\, Bad Münder am Deister
ORGANIZER;CN=Landsommer Weserbergland:mailto:mueller@gaestefuehrungen-weser
 bergland.de
RRULE:FREQ=MONTHLY;UNTIL=20250909T215900;BYDAY=2WE
SEQUENCE:0
SUMMARY:Rundgang mit der Nachtwächterin 
UID:e_100268956_iv30
URL:http://pages.destination.one/de/oestliches-weserbergland/streaming/deta
 il/Event/e_100268956/rundgang-mit-der-nachtw-chterin
END:VEVENT
BEGIN:VEVENT
CATEGORIES:Führung
CATEGORIES:Kostümführung
CATEGORIES:Themenführung
DESCRIPTION:\n\nmehr Informationen unter http://pages.destination.one/de/oe
 stliches-weserbergland/streaming/detail/Event/e_100268956/rundgang-mit-der
 -nachtw-chterin
DTEND;TZID=Europe/Berlin:20250902T235900
DTSTAMP:20260420T123511Z
DTSTART;TZID=Europe/Berlin:20250902T200000
GEO:52.196451;9.469320
LOCATION:Kurmittelhaus Bad Münder\, Osterstraße 39\, Bad Münder am Deister
ORGANIZER;CN=Landsommer Weserbergland:mailto:mueller@gaestefuehrungen-weser
 bergland.de
SEQUENCE:0
SUMMARY:Rundgang mit der Nachtwächterin 
UID:e_100268956_iv31
URL:http://pages.destination.one/de/oestliches-weserbergland/streaming/deta
 il/Event/e_100268956/rundgang-mit-der-nachtw-chterin
END:VEVENT
BEGIN:VEVENT
CATEGORIES:Führung
CATEGORIES:Kostümführung
CATEGORIES:Themenführung
DESCRIPTION:\n\nmehr Informationen unter http://pages.destination.one/de/oe
 stliches-weserbergland/streaming/detail/Event/e_100268956/rundgang-mit-der
 -nachtw-chterin
DTEND;TZID=Europe/Berlin:20251001T235900
DTSTAMP:20260420T123511Z
DTSTART;TZID=Europe/Berlin:20251001T200000
GEO:52.196451;9.469320
LOCATION:Kurmittelhaus Bad Münder\, Osterstraße 39\, Bad Münder am Deister
ORGANIZER;CN=Landsommer Weserbergland:mailto:mueller@gaestefuehrungen-weser
 bergland.de
SEQUENCE:0
SUMMARY:Rundgang mit der Nachtwächterin 
UID:e_100268956_iv32
URL:http://pages.destination.one/de/oestliches-weserbergland/streaming/deta
 il/Event/e_100268956/rundgang-mit-der-nachtw-chterin
END:VEVENT
BEGIN:VEVENT
CATEGORIES:Führung
CATEGORIES:Kostümführung
CATEGORIES:Themenführung
DESCRIPTION:\n\nmehr Informationen unter http://pages.destination.one/de/oe
 stliches-weserbergland/streaming/detail/Event/e_100268956/rundgang-mit-der
 -nachtw-chterin
DTEND;TZID=Europe/Berlin:20251022T235900
DTSTAMP:20260420T123511Z
DTSTART;TZID=Europe/Berlin:20251022T200000
GEO:52.196451;9.469320
LOCATION:Kurmittelhaus Bad Münder\, Osterstraße 39\, Bad Münder am Deister
ORGANIZER;CN=Landsommer Weserbergland:mailto:mueller@gaestefuehrungen-weser
 bergland.de
RRULE:FREQ=MONTHLY;UNTIL=20251104T225900;BYDAY=2WE
SEQUENCE:0
SUMMARY:Rundgang mit der Nachtwächterin 
UID:e_100268956_iv33
URL:http://pages.destination.one/de/oestliches-weserbergland/streaming/deta
 il/Event/e_100268956/rundgang-mit-der-nachtw-chterin
END:VEVENT
BEGIN:VEVENT
CATEGORIES:Führung
CATEGORIES:Kostümführung
CATEGORIES:Themenführung
DESCRIPTION:\n\nmehr Informationen unter http://pages.destination.one/de/oe
 stliches-weserbergland/streaming/detail/Event/e_100268956/rundgang-mit-der
 -nachtw-chterin
DTEND;TZID=Europe/Berlin:20251203T235900
DTSTAMP:20260420T123511Z
DTSTART;TZID=Europe/Berlin:20251203T200000
GEO:52.196451;9.469320
LOCATION:Kurmittelhaus Bad Münder\, Osterstraße 39\, Bad Münder am Deister
ORGANIZER;CN=Landsommer Weserbergland:mailto:mueller@gaestefuehrungen-weser
 bergland.de
RRULE:FREQ=MONTHLY;BYDAY=1WE
SEQUENCE:0
SUMMARY:Rundgang mit der Nachtwächterin 
UID:e_100268956_iv34
URL:http://pages.destination.one/de/oestliches-weserbergland/streaming/deta
 il/Event/e_100268956/rundgang-mit-der-nachtw-chterin
END:VEVENT
BEGIN:VTIMEZONE
TZID:Europe/Berlin
X-LIC-LOCATION:Europe/Berlin
BEGIN:DAYLIGHT
DTSTART:19700329T020000
RRULE:FREQ=YEARLY;BYDAY=-1SU;BYMONTH=3
TZNAME:CEST
TZOFFSETFROM:+0100
TZOFFSETTO:+0200
END:DAYLIGHT
BEGIN:STANDARD
DTSTART:19701025T030000
RRULE:FREQ=YEARLY;BYDAY=-1SU;BYMONTH=10
TZNAME:CET
TZOFFSETFROM:+0200
TZOFFSETTO:+0100
END:STANDARD
END:VTIMEZONE
END:VCALENDAR
