BEGIN:VCALENDAR
VERSION:2.0
PRODID:-//destination.one//NONSGML destination.meta API//DE
X-WR-CALDESC:A calendar powered by destination.meta
X-WR-CALNAME:oestliches-weserbergland Kalender via destination.meta
BEGIN:VEVENT
CATEGORIES:Kinderfest
DESCRIPTION:Kinderspielefest der Nationen im Rohmelbad\n\nmehr Informatione
 n unter http://pages.destination.one/de/oestliches-weserbergland/streaming
 /detail/Event/e_100088889/kinderspielefest-der-nationen
DTEND;TZID=Europe/Berlin:20220813T235900
DTSTAMP:20260421T085729Z
DTSTART;TZID=Europe/Berlin:20220813T110000
GEO:52.193912;9.469269
LOCATION:Rohmelbad\, Am Rohmelbad 11\, Bad Münder am Deister
SEQUENCE:0
SUMMARY:Kinderspielefest der Nationen
UID:e_100088889_iv0
URL:http://pages.destination.one/de/oestliches-weserbergland/streaming/deta
 il/Event/e_100088889/kinderspielefest-der-nationen
END:VEVENT
BEGIN:VEVENT
CATEGORIES:Kinderfest
DESCRIPTION:Kinderspielefest der Nationen im Rohmelbad\n\nmehr Informatione
 n unter http://pages.destination.one/de/oestliches-weserbergland/streaming
 /detail/Event/e_100088889/kinderspielefest-der-nationen
DTEND;TZID=Europe/Berlin:20240727T235900
DTSTAMP:20260421T085729Z
DTSTART;TZID=Europe/Berlin:20240727T110000
GEO:52.193912;9.469269
LOCATION:Rohmelbad\, Am Rohmelbad 11\, Bad Münder am Deister
SEQUENCE:0
SUMMARY:Kinderspielefest der Nationen
UID:e_100088889_iv1
URL:http://pages.destination.one/de/oestliches-weserbergland/streaming/deta
 il/Event/e_100088889/kinderspielefest-der-nationen
END:VEVENT
BEGIN:VEVENT
CATEGORIES:Kinderfest
DESCRIPTION:Kinderspielefest der Nationen im Rohmelbad\n\nmehr Informatione
 n unter http://pages.destination.one/de/oestliches-weserbergland/streaming
 /detail/Event/e_100088889/kinderspielefest-der-nationen
DTEND;TZID=Europe/Berlin;VALUE=DATE:20250713
DTSTAMP:20260421T085729Z
DTSTART;TZID=Europe/Berlin;VALUE=DATE:20250712
GEO:52.193912;9.469269
LOCATION:Rohmelbad\, Am Rohmelbad 11\, Bad Münder am Deister
SEQUENCE:0
SUMMARY:Kinderspielefest der Nationen
UID:e_100088889_iv2
URL:http://pages.destination.one/de/oestliches-weserbergland/streaming/deta
 il/Event/e_100088889/kinderspielefest-der-nationen
END:VEVENT
BEGIN:VEVENT
CATEGORIES:Kinderfest
DESCRIPTION:Kinderspielefest der Nationen im Rohmelbad\n\nmehr Informatione
 n unter http://pages.destination.one/de/oestliches-weserbergland/streaming
 /detail/Event/e_100088889/kinderspielefest-der-nationen
DTEND;TZID=Europe/Berlin;VALUE=DATE:20260712
DTSTAMP:20260421T085729Z
DTSTART;TZID=Europe/Berlin;VALUE=DATE:20260711
GEO:52.193912;9.469269
LOCATION:Rohmelbad\, Am Rohmelbad 11\, Bad Münder am Deister
SEQUENCE:0
SUMMARY:Kinderspielefest der Nationen
UID:e_100088889_iv3
URL:http://pages.destination.one/de/oestliches-weserbergland/streaming/deta
 il/Event/e_100088889/kinderspielefest-der-nationen
END:VEVENT
BEGIN:VTIMEZONE
TZID:Europe/Berlin
X-LIC-LOCATION:Europe/Berlin
BEGIN:DAYLIGHT
DTSTART:19700329T020000
RRULE:FREQ=YEARLY;BYDAY=-1SU;BYMONTH=3
TZNAME:CEST
TZOFFSETFROM:+0100
TZOFFSETTO:+0200
END:DAYLIGHT
BEGIN:STANDARD
DTSTART:19701025T030000
RRULE:FREQ=YEARLY;BYDAY=-1SU;BYMONTH=10
TZNAME:CET
TZOFFSETFROM:+0200
TZOFFSETTO:+0100
END:STANDARD
END:VTIMEZONE
END:VCALENDAR
